BEGIN:VCALENDAR
VERSION:2.0
PRODID:SchoolNow
CALSCALE:GREGORIAN
BEGIN:VEVENT
UID:bea0c7c2-2c34-11eb-bbbf-1282afaf4479
DTSTAMP:20201121T200421Z
SUMMARY:Virtual Board Work Session
URL;VALUE=URI:https://www.hudsonvillepublicschools.org/about/calendar/25013
 29/virtual-board-work-session
DTSTART:20201123T230000Z
DTEND:20201124T000000Z
END:VEVENT
END:VCALENDAR
