BEGIN:VCALENDAR
VERSION:2.0
PRODID:SchoolNow
CALSCALE:GREGORIAN
BEGIN:VEVENT
UID:a3d5a964-0fd1-11eb-b800-0a6808b7fa1f
DTSTAMP:20201016T170423Z
SUMMARY:Board of Education Special Meeting
LOCATION:3886 Van Buren Street\, Hudsonville\, MI 49426
URL;VALUE=URI:https://www.hudsonvillepublicschools.org/about/calendar/24704
 07/board-of-education-special-meeting
DTSTART:20201019T214500Z
DTEND:20201019T220000Z
END:VEVENT
END:VCALENDAR
