BEGIN:VCALENDAR
VERSION:2.0
PRODID:SchoolNow
CALSCALE:GREGORIAN
BEGIN:VEVENT
UID:fe3eaef8-ff52-11ea-a5bf-0af4829fba0d
DTSTAMP:20200925T171730Z
SUMMARY:Notice of Special Meeting of the Board of Education
URL;VALUE=URI:https://www.hudsonvillepublicschools.org/about/calendar/23872
 27/notice-of-special-meeting-of-the-board-of-education
DTSTART:20200928T220000Z
DTEND:20200928T221000Z
END:VEVENT
END:VCALENDAR
