BEGIN:VCALENDAR
VERSION:2.0
PRODID:SchoolNow
CALSCALE:GREGORIAN
BEGIN:VEVENT
UID:2083c6c4-ff26-11ea-8cdb-12cef1de4051
DTSTAMP:20200925T170910Z
SUMMARY:Virtual Work Session of the Board of Education
URL;VALUE=URI:https://www.hudsonvillepublicschools.org/about/calendar/23859
 68/virtual-work-session-of-the-board-of-education
DTSTART:20200928T221000Z
DTEND:20200929T000000Z
END:VEVENT
END:VCALENDAR
