BEGIN:VCALENDAR
VERSION:2.0
PRODID:SchoolNow
CALSCALE:GREGORIAN
BEGIN:VEVENT
UID:ece20758-d2a3-11ea-8f80-12e9e9bc7665
DTSTAMP:20200730T203328Z
SUMMARY:No School
URL;VALUE=URI:https://www.hudsonvillepublicschools.org/about/calendar/22964
 37/no-school-clone
DTSTART;VALUE=DATE:20201026
DTEND;VALUE=DATE:20201027
END:VEVENT
END:VCALENDAR
