BEGIN:VCALENDAR
VERSION:2.0
PRODID:SchoolNow
CALSCALE:GREGORIAN
BEGIN:VEVENT
UID:6263b796-c846-11ea-8aa4-0a86e1d79599
DTSTAMP:20230227T185102Z
SUMMARY:Virtual Board of Education Meeting
LOCATION:3886 Van Buren Street\, Hudsonville\, MI 49426
URL;VALUE=URI:https://www.hudsonvillepublicschools.org/about/calendar/22851
 19/board-of-education-meeting
DTSTART:20201211T000000Z
DTEND:20201211T010000Z
END:VEVENT
END:VCALENDAR
