BEGIN:VCALENDAR
VERSION:2.0
PRODID:SchoolNow
CALSCALE:GREGORIAN
BEGIN:VEVENT
UID:4ccb2fc2-c846-11ea-b74a-0a86e1d79599
DTSTAMP:20201111T195448Z
SUMMARY:Board of Education Meeting
LOCATION:3886 Van Buren Street\, Hudsonville\, MI 49426
URL;VALUE=URI:https://www.hudsonvillepublicschools.org/about/calendar/22851
 18/board-of-education-meeting
DTSTART:20201113T000000Z
DTEND:20201113T010000Z
END:VEVENT
END:VCALENDAR
