BEGIN:VCALENDAR
VERSION:2.0
PRODID:SchoolNow
CALSCALE:GREGORIAN
BEGIN:VEVENT
UID:2535ade8-c846-11ea-a35d-0a86e1d79599
DTSTAMP:20200908T132014Z
SUMMARY:Virtual Board of Education Meeting
LOCATION:3886 Van Buren Street\, Hudsonville\, MI 49426
URL;VALUE=URI:https://www.hudsonvillepublicschools.org/about/calendar/22851
 16/board-of-education-meeting
DTSTART:20200910T230000Z
DTEND:20200911T000000Z
END:VEVENT
END:VCALENDAR
