BEGIN:VCALENDAR
VERSION:2.0
PRODID:SchoolNow
CALSCALE:GREGORIAN
BEGIN:VEVENT
UID:b2ce1be2-bbce-11ea-8662-128c1434ccfd
DTSTAMP:20200701T191142Z
SUMMARY:Early Release Day
URL;VALUE=URI:https://www.hudsonvillepublicschools.org/about/calendar/22722
 80/early-release-day
DTSTART:20200903T191000Z
DTEND:20200903T201000Z
END:VEVENT
END:VCALENDAR
