BEGIN:VCALENDAR
VERSION:2.0
PRODID:SchoolNow
CALSCALE:GREGORIAN
BEGIN:VEVENT
UID:5d9327d8-bad6-11ea-b44b-0a91817d461f
DTSTAMP:20200630T133404Z
SUMMARY:Early Release Day
URL;VALUE=URI:https://www.hudsonvillepublicschools.org/about/calendar/22711
 85/early-release-day-clone
DTSTART;VALUE=DATE:20201023
DTEND;VALUE=DATE:20201024
END:VEVENT
END:VCALENDAR
