BEGIN:VCALENDAR
VERSION:2.0
PRODID:SchoolNow
CALSCALE:GREGORIAN
BEGIN:VEVENT
UID:13dfd672-bad6-11ea-bc71-0a91817d461f
DTSTAMP:20200630T133200Z
SUMMARY:Early Release Day
URL;VALUE=URI:https://www.hudsonvillepublicschools.org/about/calendar/22711
 71/early-release-day
DTSTART;VALUE=DATE:20200918
DTEND;VALUE=DATE:20200919
END:VEVENT
END:VCALENDAR
