BEGIN:VCALENDAR
VERSION:2.0
PRODID:SchoolNow
CALSCALE:GREGORIAN
BEGIN:VEVENT
UID:4b0c1678-23e5-11f1-88f2-0a58a9feac02
DTSTAMP:20260421T040512Z
SUMMARY:5th Grade Holiday Program
URL;VALUE=URI:https://www.hudsonvillepublicschools.org/5-6-building-georget
 own/calendar/8931597/5th-grade-holiday-program
DTSTART:20261209T000000Z
DTEND:20261209T010000Z
END:VEVENT
END:VCALENDAR
