BEGIN:VCALENDAR
VERSION:2.0
PRODID:SchoolNow
CALSCALE:GREGORIAN
BEGIN:VEVENT
UID:46d4c928-9ea5-11ee-a478-0a58a9feac02
DTSTAMP:20231219T193159Z
SUMMARY:No School
URL;VALUE=URI:https://www.hudsonvillepublicschools.org/5-6-building-georget
 own/calendar/5026968/no-school
DTSTART:20240823T164400Z
DTEND:20240823T174400Z
END:VEVENT
END:VCALENDAR
