BEGIN:VCALENDAR
VERSION:2.0
PRODID:SchoolNow
CALSCALE:GREGORIAN
BEGIN:VEVENT
UID:343ed7ea-9ea5-11ee-8f5c-0a58a9feac02
DTSTAMP:20231219T193127Z
SUMMARY:No School
URL;VALUE=URI:https://www.hudsonvillepublicschools.org/5-6-building-georget
 own/calendar/5026958/no-school
DTSTART:20240830T164500Z
DTEND:20240830T174500Z
END:VEVENT
END:VCALENDAR
