BEGIN:VCALENDAR
VERSION:2.0
PRODID:SchoolNow
CALSCALE:GREGORIAN
BEGIN:VEVENT
UID:13ef5442-9ea5-11ee-8239-0a6ace71cc83
DTSTAMP:20231219T193033Z
SUMMARY:Early Release
URL;VALUE=URI:https://www.hudsonvillepublicschools.org/5-6-building-georget
 own/calendar/5026947/early-release
DTSTART:20240920T164600Z
DTEND:20240920T174600Z
END:VEVENT
END:VCALENDAR
