BEGIN:VCALENDAR
VERSION:2.0
PRODID:SchoolNow
CALSCALE:GREGORIAN
BEGIN:VEVENT
UID:0f237e76-9ea4-11ee-ac29-0a58a9feac02
DTSTAMP:20231219T192316Z
SUMMARY:Early Release
URL;VALUE=URI:https://www.hudsonvillepublicschools.org/5-6-building-georget
 own/calendar/5026934/early-release
DTSTART:20240822T164400Z
DTEND:20240822T174400Z
END:VEVENT
END:VCALENDAR
