BEGIN:VCALENDAR
VERSION:2.0
PRODID:SchoolNow
CALSCALE:GREGORIAN
BEGIN:VEVENT
UID:dd7eebe4-9ea3-11ee-a20c-0a58a9feac02
DTSTAMP:20231219T192152Z
SUMMARY:No School
URL;VALUE=URI:https://www.hudsonvillepublicschools.org/5-6-building-georget
 own/calendar/5026912/no-school
DTSTART:20241021T164600Z
DTEND:20241021T174600Z
END:VEVENT
END:VCALENDAR
