BEGIN:VCALENDAR
VERSION:2.0
PRODID:SchoolNow
CALSCALE:GREGORIAN
BEGIN:VEVENT
UID:cafbb8bc-9ea3-11ee-8f4c-0a58a9feac02
DTSTAMP:20231219T192121Z
SUMMARY:Early Release
URL;VALUE=URI:https://www.hudsonvillepublicschools.org/5-6-building-georget
 own/calendar/5026900/early-release
DTSTART:20241115T174700Z
DTEND:20241115T184700Z
END:VEVENT
END:VCALENDAR
