BEGIN:VCALENDAR
VERSION:2.0
PRODID:SchoolNow
CALSCALE:GREGORIAN
BEGIN:VEVENT
UID:a6057bd8-9ea3-11ee-bb8a-0e52b2e47def
DTSTAMP:20231219T192019Z
SUMMARY:Early Release
URL;VALUE=URI:https://www.hudsonvillepublicschools.org/5-6-building-georget
 own/calendar/5026878/early-release
DTSTART:20241213T174800Z
DTEND:20241213T184800Z
END:VEVENT
END:VCALENDAR
