BEGIN:VCALENDAR
VERSION:2.0
PRODID:SchoolNow
CALSCALE:GREGORIAN
BEGIN:VEVENT
UID:92d32376-9ea3-11ee-a24a-0a58a9feac02
DTSTAMP:20231219T191947Z
SUMMARY:Holiday Break
URL;VALUE=URI:https://www.hudsonvillepublicschools.org/5-6-building-georget
 own/calendar/5026867/holiday-break
DTSTART:20241223T174900Z
DTEND:20250103T184900Z
END:VEVENT
END:VCALENDAR
