BEGIN:VCALENDAR
VERSION:2.0
PRODID:SchoolNow
CALSCALE:GREGORIAN
BEGIN:VEVENT
UID:76fd7d04-9ea3-11ee-a19c-0a58a9feac02
DTSTAMP:20231219T191900Z
SUMMARY:Winter Break
URL;VALUE=URI:https://www.hudsonvillepublicschools.org/5-6-building-georget
 own/calendar/5026846/winter-break
DTSTART:20250210T175000Z
DTEND:20250211T185000Z
END:VEVENT
END:VCALENDAR
