BEGIN:VCALENDAR
VERSION:2.0
PRODID:SchoolNow
CALSCALE:GREGORIAN
BEGIN:VEVENT
UID:16d015ea-9ea3-11ee-a258-0a58a9feac02
DTSTAMP:20231219T191619Z
SUMMARY:No School
URL;VALUE=URI:https://www.hudsonvillepublicschools.org/5-6-building-georget
 own/calendar/5026779/no-school
DTSTART:20250526T165300Z
DTEND:20250526T175300Z
END:VEVENT
END:VCALENDAR
