BEGIN:VCALENDAR
VERSION:2.0
PRODID:SchoolNow
CALSCALE:GREGORIAN
BEGIN:VEVENT
UID:fcbd0e6a-9ea2-11ee-936d-0a58a9feac02
DTSTAMP:20231219T191535Z
SUMMARY:Last Day of School - Early Release
URL;VALUE=URI:https://www.hudsonvillepublicschools.org/5-6-building-georget
 own/calendar/5026768/last-day-of-school-early-release
DTSTART:20250606T165300Z
DTEND:20250606T175300Z
END:VEVENT
END:VCALENDAR
