BEGIN:VCALENDAR
VERSION:2.0
PRODID:SchoolNow
CALSCALE:GREGORIAN
BEGIN:VEVENT
UID:dd0da336-9ea2-11ee-81a3-0ec7e020d0cd
DTSTAMP:20240813T072610Z
SUMMARY:First Day of School - Early Release
URL;VALUE=URI:https://www.hudsonvillepublicschools.org/5-6-building-georget
 own/calendar/5026757/first-day-of-school-early-release
DTSTART:20240821T164200Z
DTEND:20240821T174200Z
END:VEVENT
END:VCALENDAR
