BEGIN:VCALENDAR
VERSION:2.0
PRODID:SchoolNow
CALSCALE:GREGORIAN
BEGIN:VEVENT
UID:ee17605a-2a34-11ee-8b31-0e2f3526f73b
DTSTAMP:20231024T181149Z
SUMMARY:Last Day of School ~ Early Release
URL;VALUE=URI:https://www.hudsonvillepublicschools.org/5-6-building-georget
 own/calendar/4518288/last-day-of-school-early-release
DTSTART:20240605T121400Z
DTEND:20240605T131400Z
END:VEVENT
END:VCALENDAR
