BEGIN:VCALENDAR
VERSION:2.0
PRODID:SchoolNow
CALSCALE:GREGORIAN
BEGIN:VEVENT
UID:a11ae940-2a32-11ee-ae1c-0a58a9feac02
DTSTAMP:20230724T145903Z
SUMMARY:No School ~ Memorial Day
URL;VALUE=URI:https://www.hudsonvillepublicschools.org/5-6-building-georget
 own/calendar/4518273/no-school-memorial-day
DTSTART:20240527T121300Z
DTEND:20240527T131300Z
END:VEVENT
END:VCALENDAR
