BEGIN:VCALENDAR
VERSION:2.0
PRODID:SchoolNow
CALSCALE:GREGORIAN
BEGIN:VEVENT
UID:8eb8dcf8-2a32-11ee-800f-0ef65d679613
DTSTAMP:20240516T190001Z
SUMMARY:No School
URL;VALUE=URI:https://www.hudsonvillepublicschools.org/5-6-building-georget
 own/calendar/4518259/no-school-possible-snow-day-makeup-day-if-needed
DTSTART:20240524T121200Z
DTEND:20240524T131200Z
END:VEVENT
END:VCALENDAR
