BEGIN:VCALENDAR
VERSION:2.0
PRODID:SchoolNow
CALSCALE:GREGORIAN
BEGIN:VEVENT
UID:7c40d120-2a32-11ee-9702-0a58a9feac02
DTSTAMP:20231024T181059Z
SUMMARY:Early Release
URL;VALUE=URI:https://www.hudsonvillepublicschools.org/5-6-building-georget
 own/calendar/4518245/early-release
DTSTART:20240503T121200Z
DTEND:20240503T131200Z
END:VEVENT
END:VCALENDAR
