BEGIN:VCALENDAR
VERSION:2.0
PRODID:SchoolNow
CALSCALE:GREGORIAN
BEGIN:VEVENT
UID:c5c5f07e-2a31-11ee-b5a6-02041d902df5
DTSTAMP:20250324T134503Z
SUMMARY:Spring Break 2024
URL;VALUE=URI:https://www.hudsonvillepublicschools.org/5-6-building-georget
 own/calendar/4518231/spring-break
DTSTART:20240328T121100Z
DTEND:20240405T131100Z
END:VEVENT
END:VCALENDAR
