BEGIN:VCALENDAR
VERSION:2.0
PRODID:SchoolNow
CALSCALE:GREGORIAN
BEGIN:VEVENT
UID:aceb9f54-2a31-11ee-ba3e-0ef65d679613
DTSTAMP:20231024T181038Z
SUMMARY:Early Release
URL;VALUE=URI:https://www.hudsonvillepublicschools.org/5-6-building-georget
 own/calendar/4518217/early-release
DTSTART:20240315T121100Z
DTEND:20240315T131100Z
END:VEVENT
END:VCALENDAR
