BEGIN:VCALENDAR
VERSION:2.0
PRODID:SchoolNow
CALSCALE:GREGORIAN
BEGIN:VEVENT
UID:8efc2ac2-2a31-11ee-a0c9-0a58a9feac02
DTSTAMP:20231024T181024Z
SUMMARY:Early Release
URL;VALUE=URI:https://www.hudsonvillepublicschools.org/5-6-building-georget
 own/calendar/4518203/early-release
DTSTART:20240223T131000Z
DTEND:20240223T141000Z
END:VEVENT
END:VCALENDAR
