BEGIN:VCALENDAR
VERSION:2.0
PRODID:SchoolNow
CALSCALE:GREGORIAN
BEGIN:VEVENT
UID:804eb148-2a31-11ee-a2f0-0ef65d679613
DTSTAMP:20230724T145058Z
SUMMARY:Winter Break
URL;VALUE=URI:https://www.hudsonvillepublicschools.org/5-6-building-georget
 own/calendar/4518189/winter-break
DTSTART:20240212T130900Z
DTEND:20240213T140900Z
END:VEVENT
END:VCALENDAR
