BEGIN:VCALENDAR
VERSION:2.0
PRODID:SchoolNow
CALSCALE:GREGORIAN
BEGIN:VEVENT
UID:6e27228e-2a31-11ee-b399-0ebd7a7d4b03
DTSTAMP:20231024T181007Z
SUMMARY:Early Release
URL;VALUE=URI:https://www.hudsonvillepublicschools.org/5-6-building-georget
 own/calendar/4518175/early-release
DTSTART:20240126T130900Z
DTEND:20240126T140900Z
END:VEVENT
END:VCALENDAR
