BEGIN:VCALENDAR
VERSION:2.0
PRODID:SchoolNow
CALSCALE:GREGORIAN
BEGIN:VEVENT
UID:4d93183e-2a31-11ee-a92f-0ebd7a7d4b03
DTSTAMP:20230724T144933Z
SUMMARY:Holiday Break
URL;VALUE=URI:https://www.hudsonvillepublicschools.org/5-6-building-georget
 own/calendar/4518160/holiday-break
DTSTART:20231225T130700Z
DTEND:20240105T140700Z
END:VEVENT
END:VCALENDAR
