BEGIN:VCALENDAR
VERSION:2.0
PRODID:SchoolNow
CALSCALE:GREGORIAN
BEGIN:VEVENT
UID:35926e06-2a31-11ee-8f0a-0a58a9feac02
DTSTAMP:20231024T180823Z
SUMMARY:Early Release
URL;VALUE=URI:https://www.hudsonvillepublicschools.org/5-6-building-georget
 own/calendar/4518146/early-release
DTSTART:20231215T130700Z
DTEND:20231215T140700Z
END:VEVENT
END:VCALENDAR
