BEGIN:VCALENDAR
VERSION:2.0
PRODID:SchoolNow
CALSCALE:GREGORIAN
BEGIN:VEVENT
UID:231b4432-2a31-11ee-b0b3-0a312da2e601
DTSTAMP:20230724T144822Z
SUMMARY:Thanksgiving Break
URL;VALUE=URI:https://www.hudsonvillepublicschools.org/5-6-building-georget
 own/calendar/4518132/thanksgiving-break
DTSTART:20231122T130600Z
DTEND:20231124T140600Z
END:VEVENT
END:VCALENDAR
