BEGIN:VCALENDAR
VERSION:2.0
PRODID:SchoolNow
CALSCALE:GREGORIAN
BEGIN:VEVENT
UID:0ee8743a-2a31-11ee-8fb8-02929c8777df
DTSTAMP:20231024T180808Z
SUMMARY:Early Release
URL;VALUE=URI:https://www.hudsonvillepublicschools.org/5-6-building-georget
 own/calendar/4518118/early-release
DTSTART:20231110T161000Z
DTEND:20231110T171000Z
END:VEVENT
END:VCALENDAR
