BEGIN:VCALENDAR
VERSION:2.0
PRODID:SchoolNow
CALSCALE:GREGORIAN
BEGIN:VEVENT
UID:fdb1068c-2a30-11ee-a19b-0ef65d679613
DTSTAMP:20230724T144719Z
SUMMARY:No School
URL;VALUE=URI:https://www.hudsonvillepublicschools.org/5-6-building-georget
 own/calendar/4518104/no-school
DTSTART:20231023T120500Z
DTEND:20231023T130500Z
END:VEVENT
END:VCALENDAR
