BEGIN:VCALENDAR
VERSION:2.0
PRODID:SchoolNow
CALSCALE:GREGORIAN
BEGIN:VEVENT
UID:dd3b91f6-2a30-11ee-80ad-0a58a9feac02
DTSTAMP:20230925T150233Z
SUMMARY:Early Release
URL;VALUE=URI:https://www.hudsonvillepublicschools.org/5-6-building-georget
 own/calendar/4518090/early-release
DTSTART:20231020T120500Z
DTEND:20231020T130500Z
END:VEVENT
END:VCALENDAR
