BEGIN:VCALENDAR
VERSION:2.0
PRODID:SchoolNow
CALSCALE:GREGORIAN
BEGIN:VEVENT
UID:c4d69534-2a30-11ee-8516-0a58a9feac02
DTSTAMP:20230724T144544Z
SUMMARY:Early Release
URL;VALUE=URI:https://www.hudsonvillepublicschools.org/5-6-building-georget
 own/calendar/4518076/early-release
DTSTART:20230915T120400Z
DTEND:20230915T130400Z
END:VEVENT
END:VCALENDAR
