BEGIN:VCALENDAR
VERSION:2.0
PRODID:SchoolNow
CALSCALE:GREGORIAN
BEGIN:VEVENT
UID:a3a751dc-2a30-11ee-bf2d-0e2f3526f73b
DTSTAMP:20230724T144448Z
SUMMARY:No School ~ Labor Day
URL;VALUE=URI:https://www.hudsonvillepublicschools.org/5-6-building-georget
 own/calendar/4518062/no-school-labor-day
DTSTART:20230904T120400Z
DTEND:20230904T130400Z
END:VEVENT
END:VCALENDAR
