BEGIN:VCALENDAR
VERSION:2.0
PRODID:SchoolNow
CALSCALE:GREGORIAN
BEGIN:VEVENT
UID:9230c8e8-2a30-11ee-86ae-02929c8777df
DTSTAMP:20230724T144419Z
SUMMARY:No School
URL;VALUE=URI:https://www.hudsonvillepublicschools.org/5-6-building-georget
 own/calendar/4518048/no-school
DTSTART:20230901T120300Z
DTEND:20230901T130300Z
END:VEVENT
END:VCALENDAR
