BEGIN:VCALENDAR
VERSION:2.0
PRODID:SchoolNow
CALSCALE:GREGORIAN
BEGIN:VEVENT
UID:a0847b52-2a2f-11ee-9e16-02929c8777df
DTSTAMP:20230724T143733Z
SUMMARY:Early Release
URL;VALUE=URI:https://www.hudsonvillepublicschools.org/5-6-building-georget
 own/calendar/4518007/early-release
DTSTART:20230824T143600Z
DTEND:20230824T153600Z
END:VEVENT
END:VCALENDAR
