BEGIN:VCALENDAR
VERSION:2.0
PRODID:SchoolNow
CALSCALE:GREGORIAN
BEGIN:VEVENT
UID:7af634a2-2a2f-11ee-9cdb-02041d902df5
DTSTAMP:20230724T143630Z
SUMMARY:Early Release
URL;VALUE=URI:https://www.hudsonvillepublicschools.org/5-6-building-georget
 own/calendar/4517992/early-release
DTSTART:20230823T143400Z
DTEND:20230823T153400Z
END:VEVENT
END:VCALENDAR
